BEGIN:VCALENDAR
VERSION:2.0
PRODID:-//#workingpositively - ECPv6.15.20//NONSGML v1.0//EN
CALSCALE:GREGORIAN
METHOD:PUBLISH
X-WR-CALNAME:#workingpositively
X-ORIGINAL-URL:https://www.workingpositively.hiv
X-WR-CALDESC:Events for #workingpositively
REFRESH-INTERVAL;VALUE=DURATION:PT1H
X-Robots-Tag:noindex
X-PUBLISHED-TTL:PT1H
BEGIN:VTIMEZONE
TZID:America/New_York
BEGIN:DAYLIGHT
TZOFFSETFROM:-0500
TZOFFSETTO:-0400
TZNAME:EDT
DTSTART:20190310T070000
END:DAYLIGHT
BEGIN:STANDARD
TZOFFSETFROM:-0400
TZOFFSETTO:-0500
TZNAME:EST
DTSTART:20191103T060000
END:STANDARD
BEGIN:DAYLIGHT
TZOFFSETFROM:-0500
TZOFFSETTO:-0400
TZNAME:EDT
DTSTART:20200308T070000
END:DAYLIGHT
BEGIN:STANDARD
TZOFFSETFROM:-0400
TZOFFSETTO:-0500
TZNAME:EST
DTSTART:20201101T060000
END:STANDARD
BEGIN:DAYLIGHT
TZOFFSETFROM:-0500
TZOFFSETTO:-0400
TZNAME:EDT
DTSTART:20210314T070000
END:DAYLIGHT
BEGIN:STANDARD
TZOFFSETFROM:-0400
TZOFFSETTO:-0500
TZNAME:EST
DTSTART:20211107T060000
END:STANDARD
END:VTIMEZONE
BEGIN:VEVENT
DTSTART;TZID=America/New_York:20201201T110000
DTEND;TZID=America/New_York:20201201T120000
DTSTAMP:20260423T145241
CREATED:20201124T164425Z
LAST-MODIFIED:20201130T100029Z
UID:352-1606820400-1606824000@www.workingpositively.hiv
SUMMARY:PREMIERE: #WorkingPositively Panel Discussion
DESCRIPTION:Join us at 11 AM ET on December 1 for the #WorkingPositively Panel Session Premiere! \nPanelists will share the importance of inviting employers to commit to being visible role models in the support of HIV-positive employees. \nPanelists: \n\nMargo’t Goodson\, Vice President\, Head of North America D&I\, SAP\nBob Breitel\, Strategic Partnerships\, IBM\nBeck Bailey\, Director\, Workplace Equality\, Human Rights Campaign (HRC)\nHolger Wicht\, Communications Director\, Deutsche Aidshilfe\nAxel Wedler\, Senior Manager\, IBM\n\nJoin the event here. \n(https://youtu.be/nb5Gcw5f6IQ )
URL:https://www.workingpositively.hiv/event/premiere-workingpositively-panel-discussion/
LOCATION:Online (Event Website)
ATTACH;FMTTYPE=image/png:https://www.workingpositively.hiv/wp-content/uploads/2020/09/workingpositivelylogo_test_featured-1.png
END:VEVENT
END:VCALENDAR